BEGIN:VCALENDAR
VERSION:2.0
PRODID:-//Dakota Territory Car Club - ECPv6.15.20//NONSGML v1.0//EN
CALSCALE:GREGORIAN
METHOD:PUBLISH
X-WR-CALNAME:Dakota Territory Car Club
X-ORIGINAL-URL:https://dakotaterritorycarclub.com
X-WR-CALDESC:Events for Dakota Territory Car Club
REFRESH-INTERVAL;VALUE=DURATION:PT1H
X-Robots-Tag:noindex
X-PUBLISHED-TTL:PT1H
BEGIN:VTIMEZONE
TZID:America/Denver
BEGIN:DAYLIGHT
TZOFFSETFROM:-0700
TZOFFSETTO:-0600
TZNAME:MDT
DTSTART:20240310T090000
END:DAYLIGHT
BEGIN:STANDARD
TZOFFSETFROM:-0600
TZOFFSETTO:-0700
TZNAME:MST
DTSTART:20241103T080000
END:STANDARD
BEGIN:DAYLIGHT
TZOFFSETFROM:-0700
TZOFFSETTO:-0600
TZNAME:MDT
DTSTART:20250309T090000
END:DAYLIGHT
BEGIN:STANDARD
TZOFFSETFROM:-0600
TZOFFSETTO:-0700
TZNAME:MST
DTSTART:20251102T080000
END:STANDARD
BEGIN:DAYLIGHT
TZOFFSETFROM:-0700
TZOFFSETTO:-0600
TZNAME:MDT
DTSTART:20260308T090000
END:DAYLIGHT
BEGIN:STANDARD
TZOFFSETFROM:-0600
TZOFFSETTO:-0700
TZNAME:MST
DTSTART:20261101T080000
END:STANDARD
END:VTIMEZONE
BEGIN:VEVENT
DTSTART;TZID=America/Denver:20250923T190000
DTEND;TZID=America/Denver:20250923T210000
DTSTAMP:20260419T102556
CREATED:20250414T170730Z
LAST-MODIFIED:20250803T183230Z
UID:10000021-1758654000-1758661200@dakotaterritorycarclub.com
SUMMARY:Meeting/BBQ
DESCRIPTION:6:00 PM Social \n7:00 PM Meeting \nCity Park Bowman\, ND
URL:https://dakotaterritorycarclub.com/event/meeting-bbq-4/
LOCATION:City Park\, ND Bowman
CATEGORIES:uncategorized
ATTACH;FMTTYPE=image/bmp:https://dakotaterritorycarclub.com/wp-content/uploads/2025/04/High-Res-Logo-scaled.bmp
END:VEVENT
BEGIN:VEVENT
DTSTART;TZID=America/Denver:20250722T190000
DTEND;TZID=America/Denver:20250722T200000
DTSTAMP:20260419T102556
CREATED:20250414T163923Z
LAST-MODIFIED:20250618T141840Z
UID:10000010-1753210800-1753214400@dakotaterritorycarclub.com
SUMMARY:Car Show Organizational Meeting
DESCRIPTION:City Park Bowman\, ND
URL:https://dakotaterritorycarclub.com/event/car-show-organizational-meeting/
LOCATION:City Park\, ND Bowman
CATEGORIES:uncategorized
ATTACH;FMTTYPE=image/jpeg:https://dakotaterritorycarclub.com/wp-content/uploads/2025/06/DTCC-2024-Show-6.jpg
END:VEVENT
BEGIN:VEVENT
DTSTART;VALUE=DATE:20250527
DTEND;VALUE=DATE:20250528
DTSTAMP:20260419T102556
CREATED:20250414T173356Z
LAST-MODIFIED:20250522T063933Z
UID:10000027-1748304000-1748390399@dakotaterritorycarclub.com
SUMMARY:Meeting/ BBQ
DESCRIPTION:
URL:https://dakotaterritorycarclub.com/event/meeting-bbq-5/
LOCATION:City Park\, ND Bowman
CATEGORIES:uncategorized
ATTACH;FMTTYPE=image/png:https://dakotaterritorycarclub.com/wp-content/uploads/2025/04/Rectangle-1035.png
END:VEVENT
END:VCALENDAR