BEGIN:VCALENDAR
VERSION:2.0
PRODID:-//Dakota Territory Car Club - ECPv6.15.20//NONSGML v1.0//EN
CALSCALE:GREGORIAN
METHOD:PUBLISH
X-WR-CALNAME:Dakota Territory Car Club
X-ORIGINAL-URL:https://dakotaterritorycarclub.com
X-WR-CALDESC:Events for Dakota Territory Car Club
REFRESH-INTERVAL;VALUE=DURATION:PT1H
X-Robots-Tag:noindex
X-PUBLISHED-TTL:PT1H
BEGIN:VTIMEZONE
TZID:America/Denver
BEGIN:DAYLIGHT
TZOFFSETFROM:-0700
TZOFFSETTO:-0600
TZNAME:MDT
DTSTART:20250309T090000
END:DAYLIGHT
BEGIN:STANDARD
TZOFFSETFROM:-0600
TZOFFSETTO:-0700
TZNAME:MST
DTSTART:20251102T080000
END:STANDARD
BEGIN:DAYLIGHT
TZOFFSETFROM:-0700
TZOFFSETTO:-0600
TZNAME:MDT
DTSTART:20260308T090000
END:DAYLIGHT
BEGIN:STANDARD
TZOFFSETFROM:-0600
TZOFFSETTO:-0700
TZNAME:MST
DTSTART:20261101T080000
END:STANDARD
BEGIN:DAYLIGHT
TZOFFSETFROM:-0700
TZOFFSETTO:-0600
TZNAME:MDT
DTSTART:20270314T090000
END:DAYLIGHT
BEGIN:STANDARD
TZOFFSETFROM:-0600
TZOFFSETTO:-0700
TZNAME:MST
DTSTART:20271107T080000
END:STANDARD
END:VTIMEZONE
BEGIN:VEVENT
DTSTART;TZID=America/Denver:20260724T170000
DTEND;TZID=America/Denver:20260724T210000
DTSTAMP:20260419T045043
CREATED:20260123T024235Z
LAST-MODIFIED:20260123T034425Z
UID:10000060-1784912400-1784926800@dakotaterritorycarclub.com
SUMMARY:Friday Evening Social
DESCRIPTION:Come meet those of us putting on the event! We will have hors d’oeuvres and a bar available. Also\, Pifers will have their cars\, for the classic car auction\, on display!! Join us for an evening of food\, drinks\, and visiting!
URL:https://dakotaterritorycarclub.com/event/friday-evening-social-26/
LOCATION:4 Seasons\, 12 us hwy 12\, Bowman\, ND\, 58623
CATEGORIES:uncategorized
ATTACH;FMTTYPE=image/bmp:https://dakotaterritorycarclub.com/wp-content/uploads/2025/04/High-Res-Logo-scaled.bmp
END:VEVENT
BEGIN:VEVENT
DTSTART;TZID=America/Denver:20260724T170000
DTEND;TZID=America/Denver:20260724T210000
DTSTAMP:20260419T045043
CREATED:20260123T024942Z
LAST-MODIFIED:20260123T025228Z
UID:10000061-1784912400-1784926800@dakotaterritorycarclub.com
SUMMARY:Friday Evening Social
DESCRIPTION:Come meet those of us putting on the event! We will have hors d’oeuvres and a bar available. Also\, Pifers will have their cars\, for the classic car auction\, on display!! Join us for an evening of food\, drinks\, and visiting!
URL:https://dakotaterritorycarclub.com/event/friday-evening-social-2/
LOCATION:4 Seasons\, 12 us hwy 12\, Bowman\, ND\, 58623
CATEGORIES:Registration
ATTACH;FMTTYPE=image/bmp:https://dakotaterritorycarclub.com/wp-content/uploads/2025/04/High-Res-Logo-scaled.bmp
END:VEVENT
BEGIN:VEVENT
DTSTART;VALUE=DATE:20260725
DTEND;VALUE=DATE:20260726
DTSTAMP:20260419T045043
CREATED:20260127T145554Z
LAST-MODIFIED:20260127T145554Z
UID:10000062-1784937600-1785023999@dakotaterritorycarclub.com
SUMMARY:Swap Meet
DESCRIPTION:This year we will be incorporating a swap meet into our annual car show. Keep an eye out for more details to come!
URL:https://dakotaterritorycarclub.com/event/swap-meet/
LOCATION:4 Seasons\, 12 us hwy 12\, Bowman\, ND\, 58623
ATTACH;FMTTYPE=image/bmp:https://dakotaterritorycarclub.com/wp-content/uploads/2024/07/High-Res-Logo-scaled.bmp
END:VEVENT
BEGIN:VEVENT
DTSTART;TZID=America/Denver:20260725T100000
DTEND;TZID=America/Denver:20260725T160000
DTSTAMP:20260419T045043
CREATED:20250522T072819Z
LAST-MODIFIED:20260123T040027Z
UID:10000033-1784973600-1784995200@dakotaterritorycarclub.com
SUMMARY:37th Annual DTCC Car Show and Street Fair
DESCRIPTION:The Dakota Territory Car Club will be hosting their 37th annual car show and city event on main street Bowman. This event will certainly be one for the record books – as we are expecting to again set a record attendance for a Bowman County event and a new record for the most cars at our show. Last year’s show drew an estimated 2\,000 attendees and over 350 cars. Registration is free until June 1st. \nThis show is again expected to draw cars and spectators from states-wide and bring a tremendous amount of enthusiasm to the communities of SW North Dakota. Pifer’s Auctioneers will\nagain partner with the car club in hosting the 3rd Annual Len Sadler Memorial Classic Car Auction as well! \nTo wrap up the evening we are bringing high class entertainment straight to Main Street of Bowman! We are so excited to have Chancey Williams on stage right in the middle of Bowman! \nRegister today and get those rides all polished up and show ready! See you in July!!
URL:https://dakotaterritorycarclub.com/event/dtcc-car-show/
LOCATION:Main Street\, N Main Street\, Bowman\, ND\, 58623\, United States
CATEGORIES:uncategorized
ATTACH;FMTTYPE=image/jpeg:https://dakotaterritorycarclub.com/wp-content/uploads/2025/06/C4400909-6A4C-4A36-B686-176E0C3A8E8F.jpg
END:VEVENT
BEGIN:VEVENT
DTSTART;TZID=America/Denver:20260725T100000
DTEND;TZID=America/Denver:20260725T160000
DTSTAMP:20260419T045043
CREATED:20260122T152128Z
LAST-MODIFIED:20260123T035934Z
UID:10000057-1784973600-1784995200@dakotaterritorycarclub.com
SUMMARY:37th Annual DTCC Car Show and Street Fair
DESCRIPTION:The Dakota Territory Car Club will be hosting their 37th annual car show and city event on main street Bowman. This event will certainly be one for the record books – as we are expecting to again set a record attendance for a Bowman County event and a new record for the most cars at our show. Last year’s show drew an estimated 2\,000 attendees and over 350 cars. Registration is free until June 1st. \nThis show is again expected to draw cars and spectators from states-wide and bring a tremendous amount of enthusiasm to the communities of SW North Dakota. Pifer’s Auctioneers will\nagain partner with the car club in hosting the 3rd Annual Len Sadler Memorial Classic Car Auction as well! \nTo wrap up the evening we are bringing high class entertainment straight to Main Street of Bowman! We are so excited to have Chancey Williams on stage right in the middle of Bowman! \nRegister today and get those rides all polished up and show ready! See you in July!!
URL:https://dakotaterritorycarclub.com/event/37th-annual-dtcc-car-show-and-street-fair/
LOCATION:Main Street\, N Main Street\, Bowman\, ND\, 58623\, United States
CATEGORIES:Registration
ATTACH;FMTTYPE=image/jpeg:https://dakotaterritorycarclub.com/wp-content/uploads/2025/06/C4400909-6A4C-4A36-B686-176E0C3A8E8F.jpg
END:VEVENT
BEGIN:VEVENT
DTSTART;TZID=America/Denver:20260725T110000
DTEND;TZID=America/Denver:20260725T150000
DTSTAMP:20260419T045043
CREATED:20250522T071946Z
LAST-MODIFIED:20260118T204004Z
UID:10000031-1784977200-1784991600@dakotaterritorycarclub.com
SUMMARY:3rd Annual Len Sadler Memorial Classic Car Auction
DESCRIPTION:We are pleased to have partnered with Pifer’s Auction Company in hosting the 3rd Annual Len Sadler Memorial Classic Car Auction. This will happen on main street Bowman on Saturday July 25th starting at 11:00 AM. They are limiting this auction to 50 high-end vintage cars and trucks on a first-come\, first-served basis. This event alone drew hundreds of spectators and online bidders for 2025. \nclick here to view auction cars listed
URL:https://dakotaterritorycarclub.com/event/pifers-classic-car-auction-an-event-during-the-car-show/
LOCATION:Main Street\, N Main Street\, Bowman\, ND\, 58623\, United States
CATEGORIES:Registration
ATTACH;FMTTYPE=image/jpeg:https://dakotaterritorycarclub.com/wp-content/uploads/2025/05/OIP.jpg
END:VEVENT
BEGIN:VEVENT
DTSTART;TZID=America/Denver:20260725T110000
DTEND;TZID=America/Denver:20260725T150000
DTSTAMP:20260419T045043
CREATED:20260118T203720Z
LAST-MODIFIED:20260123T034652Z
UID:10000056-1784977200-1784991600@dakotaterritorycarclub.com
SUMMARY:3rd Annual Len Sadler Memorial Classic Car Auction
DESCRIPTION:We are pleased to have partnered with Pifer’s Auction Company in hosting the 3rd Annual Len Sadler Memorial Classic Car Auction. This will happen on main street Bowman on Saturday July 25th starting at 11:00 AM. They are limiting this auction to 50 high-end vintage cars and trucks on a first-come\, first-served basis. This event alone drew hundreds of spectators and online bidders for 2025. \nclick here to view auction cars listed
URL:https://dakotaterritorycarclub.com/event/3rd-annual-len-sadler-memorial-classic-car-auction/
LOCATION:Main Street\, N Main Street\, Bowman\, ND\, 58623\, United States
CATEGORIES:uncategorized
ATTACH;FMTTYPE=image/jpeg:https://dakotaterritorycarclub.com/wp-content/uploads/2025/05/OIP.jpg
END:VEVENT
BEGIN:VEVENT
DTSTART;TZID=America/Denver:20260725T180000
DTEND;TZID=America/Denver:20260725T233000
DTSTAMP:20260419T045043
CREATED:20260122T152939Z
LAST-MODIFIED:20260122T152939Z
UID:10000058-1785002400-1785022200@dakotaterritorycarclub.com
SUMMARY:Street Dance Featuring Chancey Williams
DESCRIPTION:The Dakota Territory Car Club is proud to present the37th Annual Car Show Main Street | Bowman\, ND Saturday\, July 25th Free\nSpend the day cruising Main Street packed with classic cars\, hot rods\, customs\, and muscle — then turn up the volume for an incredible night of live music!\n EVENING ENTERTAINMENT HEADLINER: Chancey Williams WITH Devon Worley Band taking the stage at 6:00 PM\nChrome. Horsepower. Live country music. Small-town summer vibes at their best.Bring your friends\, bring the family\, and don’t miss Bowman’s BIGGEST summer event!\n\nhttps://dakotaterritorycarclub.com/wp-content/uploads/2026/01/CW-Hor_bowman.mp4
URL:https://dakotaterritorycarclub.com/event/street-dance-featuring-chancey-williams/
LOCATION:Main Street\, N Main Street\, Bowman\, ND\, 58623\, United States
CATEGORIES:Registration
ATTACH;FMTTYPE=image/jpeg:https://dakotaterritorycarclub.com/wp-content/uploads/2026/01/Banner1.jpg
END:VEVENT
BEGIN:VEVENT
DTSTART;TZID=America/Denver:20260725T180000
DTEND;TZID=America/Denver:20260725T233000
DTSTAMP:20260419T045043
CREATED:20260122T153047Z
LAST-MODIFIED:20260123T034559Z
UID:10000059-1785002400-1785022200@dakotaterritorycarclub.com
SUMMARY:Street Dance Featuring Chancey Williams
DESCRIPTION:The Dakota Territory Car Club is proud to present the37th Annual Car Show Main Street | Bowman\, ND Saturday\, July 25th Free\nSpend the day cruising Main Street packed with classic cars\, hot rods\, customs\, and muscle — then turn up the volume for an incredible night of live music!\n EVENING ENTERTAINMENT HEADLINER: Chancey Williams WITH Devon Worley Band taking the stage at 6:00 PM\nChrome. Horsepower. Live country music. Small-town summer vibes at their best.Bring your friends\, bring the family\, and don’t miss Bowman’s BIGGEST summer event!\n\nhttps://dakotaterritorycarclub.com/wp-content/uploads/2026/01/CW-Hor_bowman.mp4
URL:https://dakotaterritorycarclub.com/event/street-dance-featuring-chancey-williams-2/
LOCATION:Main Street\, N Main Street\, Bowman\, ND\, 58623\, United States
CATEGORIES:uncategorized
ATTACH;FMTTYPE=image/jpeg:https://dakotaterritorycarclub.com/wp-content/uploads/2026/01/Banner1.jpg
END:VEVENT
END:VCALENDAR